View In:
ArcGIS JavaScript
ArcGIS Online Map Viewer
ArcGIS Earth
Service Description: Imagery/Arlington_2017_3in_Ortho
Name: Imagery/Arlington_2017_3in_Ortho
Description:
Single Fused Map Cache: false
Extent:
XMin: 1.1859999999917388E7
YMin: 6983749.999941945
XMax: 1.1902500249917388E7
YMax: 7027499.999941945
Spatial Reference: 0
(0)
LatestVCSWkid(0)
Initial Extent:
XMin: 1.1859999999917388E7
YMin: 6983749.999941945
XMax: 1.1902500249917388E7
YMax: 7027499.999941945
Spatial Reference: 0
(0)
LatestVCSWkid(0)
Full Extent:
XMin: 1.1859999999917388E7
YMin: 6983749.999941945
XMax: 1.1902500249917388E7
YMax: 7027499.999941945
Spatial Reference: 0
(0)
LatestVCSWkid(0)
Pixel Size X: 0.25
Pixel Size Y: 0.25
Band Count: 4
Pixel Type: U8
RasterFunction Infos: {"rasterFunctionInfos": [{
"name": "None",
"description": "",
"help": ""
}]}
Mensuration Capabilities: Basic
Inspection Capabilities:
Has Histograms: true
Has Colormap: false
Has Multi Dimensions : false
Rendering Rule:
Min Scale: 0
Max Scale: 0
Copyright Text:
Service Data Type: esriImageServiceDataTypeGeneric
Min Values: 1, 1, 1, 1
Max Values: 255, 255, 255, 255
Mean Values: 93.134387552353, 97.796380538724, 91.8932493028, 135.99698921326
Standard Deviation Values: 53.561925370914, 50.566930864856, 46.301212800069, 63.942189815168
Object ID Field:
Fields:
None
Default Mosaic Method: Center
Allowed Mosaic Methods:
SortField:
SortValue: null
Mosaic Operator: First
Default Compression Quality: 75
Default Resampling Method: Bilinear
Max Record Count: null
Max Image Height: 4100
Max Image Width: 15000
Max Download Image Count: null
Max Mosaic Image Count: null
Allow Raster Function: true
Allow Copy: true
Allow Analysis: true
Allow Compute TiePoints: false
Supports Statistics: false
Supports Advanced Queries: false
Use StandardizedQueries: true
Raster Type Infos:
Name: Raster Dataset
Description: Supports all ArcGIS Raster Datasets
Help:
Has Raster Attribute Table: false
Edit Fields Info: null
Ownership Based AccessControl For Rasters: null
Child Resources:
Info
Histograms
Statistics
Key Properties
Legend
Raster Function Infos
Supported Operations:
Export Image
Identify
Measure
Compute Histograms
Compute Statistics Histograms
Get Samples
Compute Class Statistics
Query Boundary
Compute Pixel Location
Compute Angles
Validate
Project