View In:
ArcGIS JavaScript
ArcGIS Online Map Viewer
ArcGIS Earth
Service Description: Historic_Scans/Washington_West_c1885
Name: Historic_Scans/Washington_West_c1885
Description:
Single Fused Map Cache: false
Extent:
XMin: 192933.98182568848
YMin: 305402.0519833746
XMax: 219193.98182568848
YMax: 337198.0519833746
Spatial Reference: 0
(0)
LatestVCSWkid(0)
Initial Extent:
XMin: 192933.98182568848
YMin: 305402.0519833746
XMax: 219193.98182568848
YMax: 337198.0519833746
Spatial Reference: 0
(0)
LatestVCSWkid(0)
Full Extent:
XMin: 192933.98182568848
YMin: 305402.0519833746
XMax: 219193.98182568848
YMax: 337198.0519833746
Spatial Reference: 0
(0)
LatestVCSWkid(0)
Pixel Size X: 4.0
Pixel Size Y: 4.0
Band Count: 3
Pixel Type: U8
RasterFunction Infos: {"rasterFunctionInfos": [{
"name": "None",
"description": "",
"help": ""
}]}
Mensuration Capabilities: Basic
Inspection Capabilities:
Has Histograms: true
Has Colormap: false
Has Multi Dimensions : false
Rendering Rule:
Min Scale: 0
Max Scale: 0
Min LOD: 11
Max LOD: 17
Copyright Text:
Service Data Type: esriImageServiceDataTypeRGB
Min Values: 1, 1, 1
Max Values: 255, 255, 253
Mean Values: 236.6116399302, 214.93280235437, 190.33035418332
Standard Deviation Values: 34.274784551295, 33.599408823976, 31.413832918039
Object ID Field:
Fields:
None
Default Mosaic Method: Center
Allowed Mosaic Methods:
SortField:
SortValue: null
Mosaic Operator: First
Default Compression Quality: 75
Default Resampling Method: Bilinear
Max Record Count: null
Max Image Height: 4100
Max Image Width: 15000
Max Download Image Count: null
Max Mosaic Image Count: null
Allow Raster Function: true
Allow Copy: true
Allow Analysis: true
Allow Compute TiePoints: false
Supports Statistics: false
Supports Advanced Queries: false
Use StandardizedQueries: true
Raster Type Infos:
Name: Raster Dataset
Description: Supports all ArcGIS Raster Datasets
Help:
Has Raster Attribute Table: false
Edit Fields Info: null
Ownership Based AccessControl For Rasters: null
Child Resources:
Info
Histograms
Statistics
Key Properties
Legend
Raster Function Infos
Supported Operations:
Export Image
Identify
Measure
Compute Histograms
Compute Statistics Histograms
Get Samples
Compute Class Statistics
Query Boundary
Compute Pixel Location
Compute Angles
Validate
Project