View In:
ArcGIS JavaScript
ArcGIS Online Map Viewer
ArcGIS Earth
Service Description: Historic_Scans/Rural_Delivery_Routes_1920
Name: Historic_Scans/Rural_Delivery_Routes_1920
Description:
Single Fused Map Cache: false
Extent:
XMin: 1.1842476030189553E7
YMin: 6940736.0976651525
XMax: 1.1917451022707554E7
YMax: 7031641.833091153
Spatial Reference: 102746
(2283)
LatestVCSWkid(0)
Initial Extent:
XMin: 1.1842476030189553E7
YMin: 6940736.0976651525
XMax: 1.1917451022707554E7
YMax: 7031641.833091153
Spatial Reference: 102746
(2283)
LatestVCSWkid(0)
Full Extent:
XMin: 1.1842476030189553E7
YMin: 6940736.0976651525
XMax: 1.1917451022707554E7
YMax: 7031641.833091153
Spatial Reference: 102746
(2283)
LatestVCSWkid(0)
Pixel Size X: 6.790598000000028
Pixel Size Y: 6.790598000000024
Band Count: 3
Pixel Type: U16
RasterFunction Infos: {"rasterFunctionInfos": [{
"name": "None",
"description": "",
"help": ""
}]}
Mensuration Capabilities: Basic
Inspection Capabilities:
Has Histograms: true
Has Colormap: false
Has Multi Dimensions : false
Rendering Rule:
Min Scale: 0
Max Scale: 0
Copyright Text:
Service Data Type: esriImageServiceDataTypeGeneric
Min Values: 0, 0, 0
Max Values: 255, 253, 242
Mean Values: 219.14867777189, 205.71243422505, 186.64902475263
Standard Deviation Values: 37.520109815957, 25.567589401697, 17.190706281336
Object ID Field:
Fields:
None
Default Mosaic Method: Center
Allowed Mosaic Methods:
SortField:
SortValue: null
Mosaic Operator: First
Default Compression Quality: 75
Default Resampling Method: Bilinear
Max Record Count: null
Max Image Height: 4100
Max Image Width: 15000
Max Download Image Count: null
Max Mosaic Image Count: null
Allow Raster Function: true
Allow Copy: true
Allow Analysis: true
Allow Compute TiePoints: false
Supports Statistics: false
Supports Advanced Queries: false
Use StandardizedQueries: true
Raster Type Infos:
Name: Raster Dataset
Description: Supports all ArcGIS Raster Datasets
Help:
Has Raster Attribute Table: false
Edit Fields Info: null
Ownership Based AccessControl For Rasters: null
Child Resources:
Info
Histograms
Statistics
Key Properties
Legend
Raster Function Infos
Supported Operations:
Export Image
Identify
Measure
Compute Histograms
Compute Statistics Histograms
Get Samples
Compute Class Statistics
Query Boundary
Compute Pixel Location
Compute Angles
Validate
Project